BEGIN:VCALENDAR
VERSION:2.0
PRODID:-//SVP Winterthur //NONSGML Events //EN
CALSCALE:GREGORIAN
X-WR-CALNAME:SVP Winterthur
BEGIN:VEVENT
CREATED:20260310T151101Z
UID:7776
DTEND:20260510T000000
DTSTART:20260510T000000
DTSTAMP:20260425T134813Z
LOCATION:
DESCRIPTION:Empfehlung der SVP: Stefan Fritschi 
SUMMARY:2. Wahlgang Stadtpräsident &#8211\; Stefan Fritschi
ORGANIZER:
URL;VALUE=URI:https://www.svp-winterthur.ch/termine/2-wahlgang-stadtpraesident/
TRANSP:OPAQUE
END:VEVENT
END:VCALENDAR
