BEGIN:VCALENDAR
VERSION:2.0
PRODID:-//SVP Winterthur //NONSGML Events //EN
CALSCALE:GREGORIAN
X-WR-CALNAME:SVP Winterthur
BEGIN:VEVENT
CREATED:20241018T154219Z
UID:7058
DTEND:20260614T000000
DTSTART:20260614T000000
DTSTAMP:20260423T131654Z
LOCATION:
DESCRIPTION:Stadt Winterthur:  Ausbau und Erneuerung der Abwasserreinigungsanlage 
SUMMARY:Volksabstimmungen
ORGANIZER:
URL;VALUE=URI:https://www.svp-winterthur.ch/termine/volksabstimmungen-winterthur/
TRANSP:OPAQUE
END:VEVENT
END:VCALENDAR
