BEGIN:VCALENDAR
VERSION:2.0
PRODID:-//SVP Winterthur //NONSGML Events //EN
CALSCALE:GREGORIAN
X-WR-CALNAME:SVP Winterthur
BEGIN:VEVENT
CREATED:20240323T104219Z
UID:6847
DTEND:20260905T000000
DTSTART:20260905T000000
DTSTAMP:20260423T162313Z
LOCATION:
DESCRIPTION:
SUMMARY:SVP an der Seemer Dorfet
ORGANIZER:
URL;VALUE=URI:https://www.svp-winterthur.ch/termine/svp-an-der-seemer-dorfet-2/
TRANSP:OPAQUE
END:VEVENT
END:VCALENDAR
