BEGIN:VCALENDAR
VERSION:2.0
PRODID:-//SVP Winterthur //NONSGML Events //EN
CALSCALE:GREGORIAN
X-WR-CALNAME:SVP Winterthur
BEGIN:VEVENT
CREATED:20200827T170745Z
UID:1191
DTEND:20260927T000000
DTSTART:20260927T000000
DTSTAMP:20260423T162118Z
LOCATION:
DESCRIPTION:
SUMMARY:Volksabstimmung
ORGANIZER:
URL;VALUE=URI:https://www.svp-winterthur.ch/termine/volksabstimmung-2/
TRANSP:OPAQUE
END:VEVENT
END:VCALENDAR
